BEGIN:VCALENDAR
VERSION:2.0
PRODID:-//Total Child - ECPv6.15.20//NONSGML v1.0//EN
CALSCALE:GREGORIAN
METHOD:PUBLISH
X-ORIGINAL-URL:https://totalchild.org
X-WR-CALDESC:Events for Total Child
REFRESH-INTERVAL;VALUE=DURATION:PT1H
X-Robots-Tag:noindex
X-PUBLISHED-TTL:PT1H
BEGIN:VTIMEZONE
TZID:America/Chicago
BEGIN:DAYLIGHT
TZOFFSETFROM:-0600
TZOFFSETTO:-0500
TZNAME:CDT
DTSTART:20240310T080000
END:DAYLIGHT
BEGIN:STANDARD
TZOFFSETFROM:-0500
TZOFFSETTO:-0600
TZNAME:CST
DTSTART:20241103T070000
END:STANDARD
BEGIN:DAYLIGHT
TZOFFSETFROM:-0600
TZOFFSETTO:-0500
TZNAME:CDT
DTSTART:20250309T080000
END:DAYLIGHT
BEGIN:STANDARD
TZOFFSETFROM:-0500
TZOFFSETTO:-0600
TZNAME:CST
DTSTART:20251102T070000
END:STANDARD
BEGIN:DAYLIGHT
TZOFFSETFROM:-0600
TZOFFSETTO:-0500
TZNAME:CDT
DTSTART:20260308T080000
END:DAYLIGHT
BEGIN:STANDARD
TZOFFSETFROM:-0500
TZOFFSETTO:-0600
TZNAME:CST
DTSTART:20261101T070000
END:STANDARD
BEGIN:DAYLIGHT
TZOFFSETFROM:-0600
TZOFFSETTO:-0500
TZNAME:CDT
DTSTART:20270314T080000
END:DAYLIGHT
BEGIN:STANDARD
TZOFFSETFROM:-0500
TZOFFSETTO:-0600
TZNAME:CST
DTSTART:20271107T070000
END:STANDARD
END:VTIMEZONE
BEGIN:VEVENT
DTSTART;VALUE=DATE:20250818
DTEND;VALUE=DATE:20250820
DTSTAMP:20260425T145935
CREATED:20250213T211205Z
LAST-MODIFIED:20250213T211205Z
UID:1471-1755475200-1755647999@totalchild.org
SUMMARY:Staff In-Service/Prep Days - Center Closed
DESCRIPTION:
URL:https://totalchild.org/calendar-event/staff-in-service-prep-days-center-closed/
END:VEVENT
BEGIN:VEVENT
DTSTART;TZID=America/Chicago:20250820T080000
DTEND;TZID=America/Chicago:20250820T100000
DTSTAMP:20260425T145935
CREATED:20250213T211300Z
LAST-MODIFIED:20250213T211300Z
UID:1473-1755676800-1755684000@totalchild.org
SUMMARY:Orientation/Open House
DESCRIPTION:
URL:https://totalchild.org/calendar-event/orientation-open-house/
END:VEVENT
BEGIN:VEVENT
DTSTART;VALUE=DATE:20250821
DTEND;VALUE=DATE:20250822
DTSTAMP:20260425T145935
CREATED:20250213T211321Z
LAST-MODIFIED:20250213T211321Z
UID:1475-1755734400-1755820799@totalchild.org
SUMMARY:First Day of School
DESCRIPTION:
URL:https://totalchild.org/calendar-event/first-day-of-school-3/
END:VEVENT
BEGIN:VEVENT
DTSTART;VALUE=DATE:20250901
DTEND;VALUE=DATE:20250902
DTSTAMP:20260425T145935
CREATED:20250213T211356Z
LAST-MODIFIED:20250213T211356Z
UID:1477-1756684800-1756771199@totalchild.org
SUMMARY:Labor Day - Center Closed
DESCRIPTION:
URL:https://totalchild.org/calendar-event/labor-day-center-closed-3/
END:VEVENT
BEGIN:VEVENT
DTSTART;TZID=America/Chicago:20250910T180000
DTEND;TZID=America/Chicago:20250910T190000
DTSTAMP:20260425T145935
CREATED:20250213T211521Z
LAST-MODIFIED:20250213T211521Z
UID:1479-1757527200-1757530800@totalchild.org
SUMMARY:Grown-Up Night
DESCRIPTION:
URL:https://totalchild.org/calendar-event/grown-up-night-3/
END:VEVENT
BEGIN:VEVENT
DTSTART;VALUE=DATE:20250923
DTEND;VALUE=DATE:20250924
DTSTAMP:20260425T145935
CREATED:20250213T211617Z
LAST-MODIFIED:20250213T211617Z
UID:1481-1758585600-1758671999@totalchild.org
SUMMARY:Rosh Hashana Services - Center Closed
DESCRIPTION:
URL:https://totalchild.org/calendar-event/rosh-hashana-services-center-closed-2/
END:VEVENT
BEGIN:VEVENT
DTSTART;TZID=America/Chicago:20251001T073000
DTEND;TZID=America/Chicago:20251001T150000
DTSTAMP:20260425T145935
CREATED:20250213T211734Z
LAST-MODIFIED:20250213T211734Z
UID:1483-1759303800-1759330800@totalchild.org
SUMMARY:Early Dismissal at 3:00 pm for Yom Kippur Services
DESCRIPTION:
URL:https://totalchild.org/calendar-event/early-dismissal-at-300-pm-for-yom-kippur-services/
END:VEVENT
BEGIN:VEVENT
DTSTART;VALUE=DATE:20251002
DTEND;VALUE=DATE:20251003
DTSTAMP:20260425T145935
CREATED:20250213T211802Z
LAST-MODIFIED:20250213T211802Z
UID:1485-1759363200-1759449599@totalchild.org
SUMMARY:Yom Kippur Services - Center Closed
DESCRIPTION:
URL:https://totalchild.org/calendar-event/yom-kippur-services-center-closed/
END:VEVENT
BEGIN:VEVENT
DTSTART;VALUE=DATE:20251013
DTEND;VALUE=DATE:20251014
DTSTAMP:20260425T145935
CREATED:20250213T211858Z
LAST-MODIFIED:20250213T211858Z
UID:1488-1760313600-1760399999@totalchild.org
SUMMARY:Indigenous Peoples' Day - Center Closed
DESCRIPTION:
URL:https://totalchild.org/calendar-event/indigenous-peoples-day-center-closed/
END:VEVENT
BEGIN:VEVENT
DTSTART;TZID=America/Chicago:20251022T173000
DTEND;TZID=America/Chicago:20251022T190000
DTSTAMP:20260425T145935
CREATED:20250213T211931Z
LAST-MODIFIED:20250213T211931Z
UID:1490-1761154200-1761159600@totalchild.org
SUMMARY:Harvest Soup
DESCRIPTION:
URL:https://totalchild.org/calendar-event/harvest-soup-3/
END:VEVENT
BEGIN:VEVENT
DTSTART;VALUE=DATE:20251106
DTEND;VALUE=DATE:20251107
DTSTAMP:20260425T145935
CREATED:20250213T211953Z
LAST-MODIFIED:20250213T211953Z
UID:1492-1762387200-1762473599@totalchild.org
SUMMARY:Vision and Hearing Screening
DESCRIPTION:
URL:https://totalchild.org/calendar-event/vision-and-hearing-screening/
END:VEVENT
BEGIN:VEVENT
DTSTART;TZID=America/Chicago:20251113T080000
DTEND;TZID=America/Chicago:20251113T083000
DTSTAMP:20260425T145935
CREATED:20250213T212044Z
LAST-MODIFIED:20250213T212044Z
UID:1494-1763020800-1763022600@totalchild.org
SUMMARY:Lantern Walk
DESCRIPTION:
URL:https://totalchild.org/calendar-event/lantern-walk-4/
END:VEVENT
BEGIN:VEVENT
DTSTART;VALUE=DATE:20251124
DTEND;VALUE=DATE:20251125
DTSTAMP:20260425T145935
CREATED:20250213T212103Z
LAST-MODIFIED:20250213T212603Z
UID:1496-1763942400-1764028799@totalchild.org
SUMMARY:Fall Conferences - Center Closed
DESCRIPTION:
URL:https://totalchild.org/calendar-event/fall-conferences/
END:VEVENT
BEGIN:VEVENT
DTSTART;VALUE=DATE:20251125
DTEND;VALUE=DATE:20251129
DTSTAMP:20260425T145935
CREATED:20250213T212209Z
LAST-MODIFIED:20250213T212633Z
UID:1498-1764028800-1764374399@totalchild.org
SUMMARY:Thanksgiving Break - Center Closed
DESCRIPTION:
URL:https://totalchild.org/calendar-event/thanksgiving-break/
END:VEVENT
BEGIN:VEVENT
DTSTART;TZID=America/Chicago:20251211T080000
DTEND;TZID=America/Chicago:20251211T090000
DTSTAMP:20260425T145935
CREATED:20250213T212353Z
LAST-MODIFIED:20250213T212353Z
UID:1500-1765440000-1765443600@totalchild.org
SUMMARY:Grandparent and Special Visitor Day
DESCRIPTION:
URL:https://totalchild.org/calendar-event/grandparent-and-special-visitor-day/
END:VEVENT
BEGIN:VEVENT
DTSTART;VALUE=DATE:20251222
DTEND;VALUE=DATE:20251227
DTSTAMP:20260425T145935
CREATED:20250213T212419Z
LAST-MODIFIED:20250213T212645Z
UID:1502-1766361600-1766793599@totalchild.org
SUMMARY:Winter Break - Center Closed
DESCRIPTION:
URL:https://totalchild.org/calendar-event/winter-break/
END:VEVENT
BEGIN:VEVENT
DTSTART;VALUE=DATE:20251229
DTEND;VALUE=DATE:20260103
DTSTAMP:20260425T145935
CREATED:20250213T212442Z
LAST-MODIFIED:20250213T212649Z
UID:1504-1766966400-1767398399@totalchild.org
SUMMARY:Winter Break - Center Closed
DESCRIPTION:
URL:https://totalchild.org/calendar-event/winter-break-2/
END:VEVENT
BEGIN:VEVENT
DTSTART;VALUE=DATE:20260119
DTEND;VALUE=DATE:20260120
DTSTAMP:20260425T145935
CREATED:20250213T212518Z
LAST-MODIFIED:20250213T212518Z
UID:1506-1768780800-1768867199@totalchild.org
SUMMARY:Martin Luther King Jr Day - Center Closed
DESCRIPTION:
URL:https://totalchild.org/calendar-event/martin-luther-king-jr-day-center-closed-3/
END:VEVENT
BEGIN:VEVENT
DTSTART;VALUE=DATE:20260213
DTEND;VALUE=DATE:20260214
DTSTAMP:20260425T145935
CREATED:20250213T212745Z
LAST-MODIFIED:20250213T212745Z
UID:1512-1770940800-1771027199@totalchild.org
SUMMARY:Staff In-Service Day - Center Closed
DESCRIPTION:
URL:https://totalchild.org/calendar-event/staff-in-service-day-center-closed/
END:VEVENT
BEGIN:VEVENT
DTSTART;VALUE=DATE:20260216
DTEND;VALUE=DATE:20260217
DTSTAMP:20260425T145935
CREATED:20250213T212810Z
LAST-MODIFIED:20250213T212810Z
UID:1514-1771200000-1771286399@totalchild.org
SUMMARY:Presidents' Day - Center Closed
DESCRIPTION:
URL:https://totalchild.org/calendar-event/presidents-day-center-closed-2/
END:VEVENT
BEGIN:VEVENT
DTSTART;TZID=America/Chicago:20260312T073000
DTEND;TZID=America/Chicago:20260312T090000
DTSTAMP:20260425T145935
CREATED:20250213T212857Z
LAST-MODIFIED:20250213T212857Z
UID:1516-1773300600-1773306000@totalchild.org
SUMMARY:Books and Breakfast
DESCRIPTION:
URL:https://totalchild.org/calendar-event/books-and-breakfast-4/
END:VEVENT
BEGIN:VEVENT
DTSTART;VALUE=DATE:20260318
DTEND;VALUE=DATE:20260319
DTSTAMP:20260425T145935
CREATED:20250213T212916Z
LAST-MODIFIED:20250213T212916Z
UID:1518-1773792000-1773878399@totalchild.org
SUMMARY:School Picture Day
DESCRIPTION:
URL:https://totalchild.org/calendar-event/school-picture-day-2/
END:VEVENT
BEGIN:VEVENT
DTSTART;VALUE=DATE:20260330
DTEND;VALUE=DATE:20260404
DTSTAMP:20260425T145935
CREATED:20250213T212941Z
LAST-MODIFIED:20250213T212941Z
UID:1521-1774828800-1775260799@totalchild.org
SUMMARY:Spring Break - Center Closed
DESCRIPTION:
URL:https://totalchild.org/calendar-event/spring-break-center-closed-3/
END:VEVENT
BEGIN:VEVENT
DTSTART;TZID=America/Chicago:20260506T073000
DTEND;TZID=America/Chicago:20260506T234500
DTSTAMP:20260425T145935
CREATED:20250213T213104Z
LAST-MODIFIED:20250213T213104Z
UID:1523-1778052600-1778111100@totalchild.org
SUMMARY:Spring Conferences Early Dismissal 11:45 am
DESCRIPTION:
URL:https://totalchild.org/calendar-event/spring-conferences-early-dismissal-1145-am/
END:VEVENT
BEGIN:VEVENT
DTSTART;TZID=America/Chicago:20260508T080000
DTEND;TZID=America/Chicago:20260508T090000
DTSTAMP:20260425T145935
CREATED:20250213T213150Z
LAST-MODIFIED:20250213T213150Z
UID:1525-1778227200-1778230800@totalchild.org
SUMMARY:Moms and Special Visitor Day
DESCRIPTION:
URL:https://totalchild.org/calendar-event/moms-and-special-visitor-day/
END:VEVENT
BEGIN:VEVENT
DTSTART;VALUE=DATE:20260525
DTEND;VALUE=DATE:20260526
DTSTAMP:20260425T145935
CREATED:20250213T213213Z
LAST-MODIFIED:20250213T213213Z
UID:1527-1779667200-1779753599@totalchild.org
SUMMARY:Memorial Day - Center Closed
DESCRIPTION:
URL:https://totalchild.org/calendar-event/memorial-day-center-closed-4/
END:VEVENT
BEGIN:VEVENT
DTSTART;TZID=America/Chicago:20260603T173000
DTEND;TZID=America/Chicago:20260603T190000
DTSTAMP:20260425T145935
CREATED:20250213T213319Z
LAST-MODIFIED:20250213T213319Z
UID:1529-1780507800-1780513200@totalchild.org
SUMMARY:School Picnic
DESCRIPTION:
URL:https://totalchild.org/calendar-event/school-picnic-4/
END:VEVENT
BEGIN:VEVENT
DTSTART;VALUE=DATE:20260604
DTEND;VALUE=DATE:20260605
DTSTAMP:20260425T145935
CREATED:20250213T213400Z
LAST-MODIFIED:20250213T213400Z
UID:1531-1780531200-1780617599@totalchild.org
SUMMARY:Last Day of School Before Summer Program Begins
DESCRIPTION:
URL:https://totalchild.org/calendar-event/last-day-of-school-before-summer-program-begins-2/
END:VEVENT
BEGIN:VEVENT
DTSTART;VALUE=DATE:20260605
DTEND;VALUE=DATE:20260606
DTSTAMP:20260425T145935
CREATED:20250213T213454Z
LAST-MODIFIED:20250213T213454Z
UID:1533-1780617600-1780703999@totalchild.org
SUMMARY:Staff Clean-Up and Set-Up In-Service Day for Summer Program
DESCRIPTION:
URL:https://totalchild.org/calendar-event/staff-clean-up-and-set-up-in-service-day-for-summer-program/
END:VEVENT
BEGIN:VEVENT
DTSTART;VALUE=DATE:20260608
DTEND;VALUE=DATE:20260609
DTSTAMP:20260425T145935
CREATED:20250213T213516Z
LAST-MODIFIED:20250213T213516Z
UID:1535-1780876800-1780963199@totalchild.org
SUMMARY:Summer Program Begins
DESCRIPTION:
URL:https://totalchild.org/calendar-event/summer-program-begins-3/
END:VEVENT
END:VCALENDAR