BEGIN:VCALENDAR
VERSION:2.0
PRODID:-//Total Child - ECPv6.15.20//NONSGML v1.0//EN
CALSCALE:GREGORIAN
METHOD:PUBLISH
X-WR-CALNAME:Total Child
X-ORIGINAL-URL:https://totalchild.org
X-WR-CALDESC:Events for Total Child
REFRESH-INTERVAL;VALUE=DURATION:PT1H
X-Robots-Tag:noindex
X-PUBLISHED-TTL:PT1H
BEGIN:VTIMEZONE
TZID:America/Chicago
BEGIN:DAYLIGHT
TZOFFSETFROM:-0600
TZOFFSETTO:-0500
TZNAME:CDT
DTSTART:20230312T080000
END:DAYLIGHT
BEGIN:STANDARD
TZOFFSETFROM:-0500
TZOFFSETTO:-0600
TZNAME:CST
DTSTART:20231105T070000
END:STANDARD
BEGIN:DAYLIGHT
TZOFFSETFROM:-0600
TZOFFSETTO:-0500
TZNAME:CDT
DTSTART:20240310T080000
END:DAYLIGHT
BEGIN:STANDARD
TZOFFSETFROM:-0500
TZOFFSETTO:-0600
TZNAME:CST
DTSTART:20241103T070000
END:STANDARD
BEGIN:DAYLIGHT
TZOFFSETFROM:-0600
TZOFFSETTO:-0500
TZNAME:CDT
DTSTART:20250309T080000
END:DAYLIGHT
BEGIN:STANDARD
TZOFFSETFROM:-0500
TZOFFSETTO:-0600
TZNAME:CST
DTSTART:20251102T070000
END:STANDARD
BEGIN:DAYLIGHT
TZOFFSETFROM:-0600
TZOFFSETTO:-0500
TZNAME:CDT
DTSTART:20260308T080000
END:DAYLIGHT
BEGIN:STANDARD
TZOFFSETFROM:-0500
TZOFFSETTO:-0600
TZNAME:CST
DTSTART:20261101T070000
END:STANDARD
END:VTIMEZONE
BEGIN:VEVENT
DTSTART;VALUE=DATE:20240808
DTEND;VALUE=DATE:20240809
DTSTAMP:20260421T174802
CREATED:20230807T185245Z
LAST-MODIFIED:20230807T185245Z
UID:950-1723075200-1723161599@totalchild.org
SUMMARY:Last Day for Students
DESCRIPTION:
URL:https://totalchild.org/calendar-event/last-day-for-students/
END:VEVENT
BEGIN:VEVENT
DTSTART;VALUE=DATE:20240809
DTEND;VALUE=DATE:20240810
DTSTAMP:20260421T174802
CREATED:20230807T185438Z
LAST-MODIFIED:20230807T185438Z
UID:952-1723161600-1723247999@totalchild.org
SUMMARY:Staff Clean-up Day - Center Closed
DESCRIPTION:
URL:https://totalchild.org/calendar-event/staff-clean-up-day-center-closed/
END:VEVENT
BEGIN:VEVENT
DTSTART;VALUE=DATE:20240812
DTEND;VALUE=DATE:20240817
DTSTAMP:20260421T174802
CREATED:20230807T185539Z
LAST-MODIFIED:20230807T185539Z
UID:954-1723420800-1723852799@totalchild.org
SUMMARY:Summer Break - Center Closed
DESCRIPTION:
URL:https://totalchild.org/calendar-event/summer-break-center-closed-2/
END:VEVENT
BEGIN:VEVENT
DTSTART;VALUE=DATE:20240819
DTEND;VALUE=DATE:20240821
DTSTAMP:20260421T174802
CREATED:20230807T185614Z
LAST-MODIFIED:20240223T154554Z
UID:956-1724025600-1724198399@totalchild.org
SUMMARY:Teacher in-service/Prep Days - Center Closed
DESCRIPTION:
URL:https://totalchild.org/calendar-event/teacher-in-service-prep-day-center-closed-2/
END:VEVENT
BEGIN:VEVENT
DTSTART;TZID=America/Chicago:20240821T080000
DTEND;TZID=America/Chicago:20240821T100000
DTSTAMP:20260421T174802
CREATED:20230807T185649Z
LAST-MODIFIED:20240223T153219Z
UID:958-1724227200-1724234400@totalchild.org
SUMMARY:Orientation Day
DESCRIPTION:
URL:https://totalchild.org/calendar-event/orientation-day-3/
END:VEVENT
BEGIN:VEVENT
DTSTART;VALUE=DATE:20240822
DTEND;VALUE=DATE:20240823
DTSTAMP:20260421T174802
CREATED:20230807T185713Z
LAST-MODIFIED:20240223T153306Z
UID:960-1724284800-1724371199@totalchild.org
SUMMARY:First Day of School
DESCRIPTION:
URL:https://totalchild.org/calendar-event/first-day-of-school-2/
END:VEVENT
BEGIN:VEVENT
DTSTART;VALUE=DATE:20240902
DTEND;VALUE=DATE:20240903
DTSTAMP:20260421T174802
CREATED:20240223T153406Z
LAST-MODIFIED:20240223T153432Z
UID:1113-1725235200-1725321599@totalchild.org
SUMMARY:Labor Day - Center Closed
DESCRIPTION:
URL:https://totalchild.org/calendar-event/labor-day-center-closed-2/
END:VEVENT
BEGIN:VEVENT
DTSTART;TZID=America/Chicago:20240911T180000
DTEND;TZID=America/Chicago:20240911T190000
DTSTAMP:20260421T174802
CREATED:20240223T153509Z
LAST-MODIFIED:20240223T153509Z
UID:1116-1726077600-1726081200@totalchild.org
SUMMARY:Grown-up Night
DESCRIPTION:
URL:https://totalchild.org/calendar-event/grown-up-night-2/
END:VEVENT
BEGIN:VEVENT
DTSTART;VALUE=DATE:20241003
DTEND;VALUE=DATE:20241004
DTSTAMP:20260421T174802
CREATED:20240223T153612Z
LAST-MODIFIED:20240223T154456Z
UID:1118-1727913600-1727999999@totalchild.org
SUMMARY:Rosh Hashana Services - Center Closed
DESCRIPTION:
URL:https://totalchild.org/calendar-event/rosh-hashana-services-center-closed/
END:VEVENT
BEGIN:VEVENT
DTSTART;TZID=America/Chicago:20241011T080000
DTEND;TZID=America/Chicago:20241011T150000
DTSTAMP:20260421T174802
CREATED:20240223T153805Z
LAST-MODIFIED:20240223T153805Z
UID:1120-1728633600-1728658800@totalchild.org
SUMMARY:Yom Kippur Services - Early Dismissal 3 pm
DESCRIPTION:
URL:https://totalchild.org/calendar-event/yom-kippur-services-early-dismissal-3-pm/
END:VEVENT
BEGIN:VEVENT
DTSTART;TZID=America/Chicago:20241016T173000
DTEND;TZID=America/Chicago:20241016T190000
DTSTAMP:20260421T174802
CREATED:20240223T153833Z
LAST-MODIFIED:20240223T153833Z
UID:1122-1729099800-1729105200@totalchild.org
SUMMARY:Harvest Soup
DESCRIPTION:
URL:https://totalchild.org/calendar-event/harvest-soup-2/
END:VEVENT
BEGIN:VEVENT
DTSTART;TZID=America/Chicago:20241111T080000
DTEND;TZID=America/Chicago:20241111T083000
DTSTAMP:20260421T174802
CREATED:20240223T153952Z
LAST-MODIFIED:20241030T135252Z
UID:1124-1731312000-1731313800@totalchild.org
SUMMARY:Lantern Walk
DESCRIPTION:
URL:https://totalchild.org/calendar-event/lantern-walk-3/
END:VEVENT
BEGIN:VEVENT
DTSTART;VALUE=DATE:20241125
DTEND;VALUE=DATE:20241126
DTSTAMP:20260421T174802
CREATED:20240223T154017Z
LAST-MODIFIED:20240223T154434Z
UID:1126-1732492800-1732579199@totalchild.org
SUMMARY:Fall Conferences - Center Closed
DESCRIPTION:
URL:https://totalchild.org/calendar-event/fall-conferences-center-closed/
END:VEVENT
BEGIN:VEVENT
DTSTART;VALUE=DATE:20241126
DTEND;VALUE=DATE:20241130
DTSTAMP:20260421T174802
CREATED:20240223T154050Z
LAST-MODIFIED:20240223T154419Z
UID:1128-1732579200-1732924799@totalchild.org
SUMMARY:Thanksgiving Break - Center Closed
DESCRIPTION:
URL:https://totalchild.org/calendar-event/thanksgiving-break-center-closed-2/
END:VEVENT
BEGIN:VEVENT
DTSTART;TZID=America/Chicago:20241212T080000
DTEND;TZID=America/Chicago:20241212T090000
DTSTAMP:20260421T174802
CREATED:20240223T154136Z
LAST-MODIFIED:20240223T154136Z
UID:1130-1733990400-1733994000@totalchild.org
SUMMARY:Grandparents and Special Visitor Day
DESCRIPTION:
URL:https://totalchild.org/calendar-event/grandparents-and-special-visitor-day/
END:VEVENT
BEGIN:VEVENT
DTSTART;VALUE=DATE:20241223
DTEND;VALUE=DATE:20241228
DTSTAMP:20260421T174802
CREATED:20240223T154209Z
LAST-MODIFIED:20240223T154617Z
UID:1132-1734912000-1735343999@totalchild.org
SUMMARY:Winter Break - Center Closed
DESCRIPTION:
URL:https://totalchild.org/calendar-event/winter-break-center-closed-3/
END:VEVENT
BEGIN:VEVENT
DTSTART;VALUE=DATE:20241230
DTEND;VALUE=DATE:20250104
DTSTAMP:20260421T174802
CREATED:20240223T154641Z
LAST-MODIFIED:20240223T154641Z
UID:1137-1735516800-1735948799@totalchild.org
SUMMARY:Winter Break - Center Closed
DESCRIPTION:
URL:https://totalchild.org/calendar-event/winter-break-center-closed-4/
END:VEVENT
BEGIN:VEVENT
DTSTART;VALUE=DATE:20250106
DTEND;VALUE=DATE:20250107
DTSTAMP:20260421T174802
CREATED:20240223T154251Z
LAST-MODIFIED:20240223T154251Z
UID:1134-1736121600-1736207999@totalchild.org
SUMMARY:Center Reopens
DESCRIPTION:
URL:https://totalchild.org/calendar-event/center-reopens-2/
END:VEVENT
BEGIN:VEVENT
DTSTART;VALUE=DATE:20250120
DTEND;VALUE=DATE:20250121
DTSTAMP:20260421T174802
CREATED:20240223T154735Z
LAST-MODIFIED:20240223T154735Z
UID:1139-1737331200-1737417599@totalchild.org
SUMMARY:Martin Luther King Jr. Day - Center Closed
DESCRIPTION:
URL:https://totalchild.org/calendar-event/martin-luther-king-jr-day-center-closed-2/
END:VEVENT
BEGIN:VEVENT
DTSTART;VALUE=DATE:20250214
DTEND;VALUE=DATE:20250215
DTSTAMP:20260421T174802
CREATED:20240223T154829Z
LAST-MODIFIED:20240223T154829Z
UID:1141-1739491200-1739577599@totalchild.org
SUMMARY:Teacher In-Service - Center Closed
DESCRIPTION:
URL:https://totalchild.org/calendar-event/teacher-in-service-center-closed-2/
END:VEVENT
BEGIN:VEVENT
DTSTART;VALUE=DATE:20250217
DTEND;VALUE=DATE:20250218
DTSTAMP:20260421T174802
CREATED:20240223T154903Z
LAST-MODIFIED:20240223T154903Z
UID:1143-1739750400-1739836799@totalchild.org
SUMMARY:President's Day - Center Closed
DESCRIPTION:
URL:https://totalchild.org/calendar-event/presidents-day-center-closed/
END:VEVENT
BEGIN:VEVENT
DTSTART;TZID=America/Chicago:20250311T073000
DTEND;TZID=America/Chicago:20250311T090000
DTSTAMP:20260421T174802
CREATED:20240223T154948Z
LAST-MODIFIED:20240223T154948Z
UID:1145-1741678200-1741683600@totalchild.org
SUMMARY:Books and Breakfast
DESCRIPTION:
URL:https://totalchild.org/calendar-event/books-and-breakfast-3/
END:VEVENT
BEGIN:VEVENT
DTSTART;VALUE=DATE:20250318
DTEND;VALUE=DATE:20250319
DTSTAMP:20260421T174802
CREATED:20240223T155013Z
LAST-MODIFIED:20240223T155013Z
UID:1147-1742256000-1742342399@totalchild.org
SUMMARY:School Picture Day
DESCRIPTION:
URL:https://totalchild.org/calendar-event/school-picture-day/
END:VEVENT
BEGIN:VEVENT
DTSTART;VALUE=DATE:20250324
DTEND;VALUE=DATE:20250329
DTSTAMP:20260421T174802
CREATED:20240223T155045Z
LAST-MODIFIED:20240223T155045Z
UID:1149-1742774400-1743206399@totalchild.org
SUMMARY:Spring Break - Center Closed
DESCRIPTION:
URL:https://totalchild.org/calendar-event/spring-break-center-closed-2/
END:VEVENT
BEGIN:VEVENT
DTSTART;VALUE=DATE:20250418
DTEND;VALUE=DATE:20250419
DTSTAMP:20260421T174802
CREATED:20240223T155131Z
LAST-MODIFIED:20240223T155131Z
UID:1151-1744934400-1745020799@totalchild.org
SUMMARY:Good Friday - Center Closed
DESCRIPTION:
URL:https://totalchild.org/calendar-event/good-friday-center-closed-2/
END:VEVENT
BEGIN:VEVENT
DTSTART;VALUE=DATE:20250507
DTEND;VALUE=DATE:20250508
DTSTAMP:20260421T174802
CREATED:20240223T155232Z
LAST-MODIFIED:20240223T155232Z
UID:1153-1746576000-1746662399@totalchild.org
SUMMARY:Spring Conferences - Early Dismissal 11:45am
DESCRIPTION:
URL:https://totalchild.org/calendar-event/spring-conferences-early-dismissal-1145am/
END:VEVENT
BEGIN:VEVENT
DTSTART;TZID=America/Chicago:20250509T080000
DTEND;TZID=America/Chicago:20250509T090000
DTSTAMP:20260421T174802
CREATED:20240223T155325Z
LAST-MODIFIED:20240223T155325Z
UID:1155-1746777600-1746781200@totalchild.org
SUMMARY:Moms and Special Visitors Day
DESCRIPTION:
URL:https://totalchild.org/calendar-event/moms-and-special-visitors-day/
END:VEVENT
BEGIN:VEVENT
DTSTART;VALUE=DATE:20250526
DTEND;VALUE=DATE:20250527
DTSTAMP:20260421T174802
CREATED:20240223T155355Z
LAST-MODIFIED:20240223T155355Z
UID:1157-1748217600-1748303999@totalchild.org
SUMMARY:Memorial Day - Center Closed
DESCRIPTION:
URL:https://totalchild.org/calendar-event/memorial-day-center-closed-3/
END:VEVENT
BEGIN:VEVENT
DTSTART;TZID=America/Chicago:20250604T173000
DTEND;TZID=America/Chicago:20250604T190000
DTSTAMP:20260421T174802
CREATED:20240223T171320Z
LAST-MODIFIED:20240223T171320Z
UID:1159-1749058200-1749063600@totalchild.org
SUMMARY:School Picnic
DESCRIPTION:
URL:https://totalchild.org/calendar-event/school-picnic-3/
END:VEVENT
BEGIN:VEVENT
DTSTART;VALUE=DATE:20250605
DTEND;VALUE=DATE:20250606
DTSTAMP:20260421T174802
CREATED:20240223T171357Z
LAST-MODIFIED:20240223T171357Z
UID:1161-1749081600-1749167999@totalchild.org
SUMMARY:Last Day of School Before Summer Program Begins
DESCRIPTION:
URL:https://totalchild.org/calendar-event/last-day-of-school-before-summer-program-begins/
END:VEVENT
END:VCALENDAR