BEGIN:VCALENDAR
VERSION:2.0
PRODID:-//Total Child - ECPv6.15.20//NONSGML v1.0//EN
CALSCALE:GREGORIAN
METHOD:PUBLISH
X-ORIGINAL-URL:https://totalchild.org
X-WR-CALDESC:Events for Total Child
REFRESH-INTERVAL;VALUE=DURATION:PT1H
X-Robots-Tag:noindex
X-PUBLISHED-TTL:PT1H
BEGIN:VTIMEZONE
TZID:America/Chicago
BEGIN:DAYLIGHT
TZOFFSETFROM:-0600
TZOFFSETTO:-0500
TZNAME:CDT
DTSTART:20220313T080000
END:DAYLIGHT
BEGIN:STANDARD
TZOFFSETFROM:-0500
TZOFFSETTO:-0600
TZNAME:CST
DTSTART:20221106T070000
END:STANDARD
BEGIN:DAYLIGHT
TZOFFSETFROM:-0600
TZOFFSETTO:-0500
TZNAME:CDT
DTSTART:20230312T080000
END:DAYLIGHT
BEGIN:STANDARD
TZOFFSETFROM:-0500
TZOFFSETTO:-0600
TZNAME:CST
DTSTART:20231105T070000
END:STANDARD
BEGIN:DAYLIGHT
TZOFFSETFROM:-0600
TZOFFSETTO:-0500
TZNAME:CDT
DTSTART:20240310T080000
END:DAYLIGHT
BEGIN:STANDARD
TZOFFSETFROM:-0500
TZOFFSETTO:-0600
TZNAME:CST
DTSTART:20241103T070000
END:STANDARD
BEGIN:DAYLIGHT
TZOFFSETFROM:-0600
TZOFFSETTO:-0500
TZNAME:CDT
DTSTART:20250309T080000
END:DAYLIGHT
BEGIN:STANDARD
TZOFFSETFROM:-0500
TZOFFSETTO:-0600
TZNAME:CST
DTSTART:20251102T070000
END:STANDARD
END:VTIMEZONE
BEGIN:VEVENT
DTSTART;TZID=America/Chicago:20231018T173000
DTEND;TZID=America/Chicago:20231018T190000
DTSTAMP:20260421T175331
CREATED:20230807T182204Z
LAST-MODIFIED:20230919T175056Z
UID:884-1697650200-1697655600@totalchild.org
SUMMARY:Harvest Soup
DESCRIPTION:
URL:https://totalchild.org/calendar-event/harvest-soup-530p-to-700p/
END:VEVENT
BEGIN:VEVENT
DTSTART;TZID=America/Chicago:20231107T080000
DTEND;TZID=America/Chicago:20231107T083000
DTSTAMP:20260421T175331
CREATED:20230807T183109Z
LAST-MODIFIED:20231102T203737Z
UID:898-1699344000-1699345800@totalchild.org
SUMMARY:Lantern Walk
DESCRIPTION:
URL:https://totalchild.org/calendar-event/lantern-walk-2/
END:VEVENT
BEGIN:VEVENT
DTSTART;VALUE=DATE:20231120
DTEND;VALUE=DATE:20231121
DTSTAMP:20260421T175331
CREATED:20230807T183605Z
LAST-MODIFIED:20230807T184158Z
UID:908-1700438400-1700524799@totalchild.org
SUMMARY:Fall Partnership Conferences - Center Closed
DESCRIPTION:
URL:https://totalchild.org/calendar-event/fall-partnership-conferences-center-closed/
END:VEVENT
BEGIN:VEVENT
DTSTART;VALUE=DATE:20231121
DTEND;VALUE=DATE:20231125
DTSTAMP:20260421T175331
CREATED:20230807T183641Z
LAST-MODIFIED:20230807T184206Z
UID:910-1700524800-1700870399@totalchild.org
SUMMARY:Thanksgiving Break - Center Closed
DESCRIPTION:
URL:https://totalchild.org/calendar-event/thanksgiving-break-center-closed/
END:VEVENT
BEGIN:VEVENT
DTSTART;VALUE=DATE:20231225
DTEND;VALUE=DATE:20231230
DTSTAMP:20260421T175331
CREATED:20230807T183338Z
LAST-MODIFIED:20230807T184213Z
UID:904-1703462400-1703894399@totalchild.org
SUMMARY:Winter Break - Center Closed
DESCRIPTION:
URL:https://totalchild.org/calendar-event/winter-break-center-closed/
END:VEVENT
BEGIN:VEVENT
DTSTART;VALUE=DATE:20240101
DTEND;VALUE=DATE:20240106
DTSTAMP:20260421T175331
CREATED:20230807T183510Z
LAST-MODIFIED:20230807T184219Z
UID:906-1704067200-1704499199@totalchild.org
SUMMARY:Winter Break - Center Closed
DESCRIPTION:
URL:https://totalchild.org/calendar-event/winter-break-center-closed-2/
END:VEVENT
BEGIN:VEVENT
DTSTART;VALUE=DATE:20240108
DTEND;VALUE=DATE:20240109
DTSTAMP:20260421T175331
CREATED:20230807T183713Z
LAST-MODIFIED:20230807T183713Z
UID:912-1704672000-1704758399@totalchild.org
SUMMARY:Center Reopens
DESCRIPTION:
URL:https://totalchild.org/calendar-event/center-reopens/
END:VEVENT
BEGIN:VEVENT
DTSTART;VALUE=DATE:20240115
DTEND;VALUE=DATE:20240116
DTSTAMP:20260421T175331
CREATED:20230807T183831Z
LAST-MODIFIED:20230807T184227Z
UID:914-1705276800-1705363199@totalchild.org
SUMMARY:Martin Luther King Jr. Day - Center Closed
DESCRIPTION:
URL:https://totalchild.org/calendar-event/martin-luther-king-jr-day-center-closed/
END:VEVENT
BEGIN:VEVENT
DTSTART;TZID=America/Chicago:20240125T090000
DTEND;TZID=America/Chicago:20240125T110000
DTSTAMP:20260421T175331
CREATED:20230807T183903Z
LAST-MODIFIED:20230807T183903Z
UID:916-1706173200-1706180400@totalchild.org
SUMMARY:Open House
DESCRIPTION:
URL:https://totalchild.org/calendar-event/open-house/
END:VEVENT
BEGIN:VEVENT
DTSTART;VALUE=DATE:20240216
DTEND;VALUE=DATE:20240217
DTSTAMP:20260421T175331
CREATED:20230807T184023Z
LAST-MODIFIED:20230807T184233Z
UID:918-1708041600-1708127999@totalchild.org
SUMMARY:Teacher In-service - Center Closed
DESCRIPTION:
URL:https://totalchild.org/calendar-event/teacher-in-service-center-closed/
END:VEVENT
BEGIN:VEVENT
DTSTART;VALUE=DATE:20240319
DTEND;VALUE=DATE:20240320
DTSTAMP:20260421T175331
CREATED:20230919T175138Z
LAST-MODIFIED:20230919T175138Z
UID:973-1710806400-1710892799@totalchild.org
SUMMARY:Picture Day
DESCRIPTION:
URL:https://totalchild.org/calendar-event/picture-day/
END:VEVENT
BEGIN:VEVENT
DTSTART;VALUE=DATE:20240325
DTEND;VALUE=DATE:20240330
DTSTAMP:20260421T175331
CREATED:20230807T184101Z
LAST-MODIFIED:20230807T184101Z
UID:920-1711324800-1711756799@totalchild.org
SUMMARY:Spring Break - Center Closed
DESCRIPTION:
URL:https://totalchild.org/calendar-event/spring-break-center-closed/
END:VEVENT
BEGIN:VEVENT
DTSTART;TZID=America/Chicago:20240417T073000
DTEND;TZID=America/Chicago:20240417T090000
DTSTAMP:20260421T175331
CREATED:20230807T184328Z
LAST-MODIFIED:20230807T184328Z
UID:929-1713339000-1713344400@totalchild.org
SUMMARY:Books and Breakfast
DESCRIPTION:
URL:https://totalchild.org/calendar-event/books-and-breakfast-2/
END:VEVENT
BEGIN:VEVENT
DTSTART;TZID=America/Chicago:20240501T090000
DTEND;TZID=America/Chicago:20240501T110000
DTSTAMP:20260421T175331
CREATED:20230807T184420Z
LAST-MODIFIED:20230807T184420Z
UID:931-1714554000-1714561200@totalchild.org
SUMMARY:May Day Garden Party
DESCRIPTION:
URL:https://totalchild.org/calendar-event/may-day-garden-party/
END:VEVENT
BEGIN:VEVENT
DTSTART;TZID=America/Chicago:20240513T073000
DTEND;TZID=America/Chicago:20240513T090000
DTSTAMP:20260421T175331
CREATED:20230807T184503Z
LAST-MODIFIED:20230807T184503Z
UID:933-1715585400-1715590800@totalchild.org
SUMMARY:Special Visitor and Muffins
DESCRIPTION:
URL:https://totalchild.org/calendar-event/special-visitor-and-muffins/
END:VEVENT
BEGIN:VEVENT
DTSTART;VALUE=DATE:20240527
DTEND;VALUE=DATE:20240528
DTSTAMP:20260421T175331
CREATED:20230807T184550Z
LAST-MODIFIED:20230807T184550Z
UID:935-1716768000-1716854399@totalchild.org
SUMMARY:Memorial Day - Center Closed
DESCRIPTION:
URL:https://totalchild.org/calendar-event/memorial-day-center-closed-2/
END:VEVENT
BEGIN:VEVENT
DTSTART;TZID=America/Chicago:20240606T173000
DTEND;TZID=America/Chicago:20240606T190000
DTSTAMP:20260421T175331
CREATED:20230807T184646Z
LAST-MODIFIED:20230807T184646Z
UID:937-1717695000-1717700400@totalchild.org
SUMMARY:School Picnic
DESCRIPTION:
URL:https://totalchild.org/calendar-event/school-picnic-2/
END:VEVENT
BEGIN:VEVENT
DTSTART;VALUE=DATE:20240607
DTEND;VALUE=DATE:20240608
DTSTAMP:20260421T175331
CREATED:20230807T184728Z
LAST-MODIFIED:20230807T184728Z
UID:939-1717718400-1717804799@totalchild.org
SUMMARY:Last Day Before Summer Program Begins
DESCRIPTION:
URL:https://totalchild.org/calendar-event/last-day-before-summer-program-begins/
END:VEVENT
BEGIN:VEVENT
DTSTART;VALUE=DATE:20240610
DTEND;VALUE=DATE:20240611
DTSTAMP:20260421T175331
CREATED:20230807T184757Z
LAST-MODIFIED:20230807T184757Z
UID:941-1717977600-1718063999@totalchild.org
SUMMARY:Summer Program Begins
DESCRIPTION:
URL:https://totalchild.org/calendar-event/summer-program-begins/
END:VEVENT
BEGIN:VEVENT
DTSTART;TZID=America/Chicago:20240617T073000
DTEND;TZID=America/Chicago:20240617T090000
DTSTAMP:20260421T175331
CREATED:20230807T184850Z
LAST-MODIFIED:20230807T184850Z
UID:943-1718609400-1718614800@totalchild.org
SUMMARY:Special Visitor and Donuts
DESCRIPTION:
URL:https://totalchild.org/calendar-event/special-visitor-and-donuts/
END:VEVENT
BEGIN:VEVENT
DTSTART;VALUE=DATE:20240619
DTEND;VALUE=DATE:20240620
DTSTAMP:20260421T175331
CREATED:20230807T184926Z
LAST-MODIFIED:20230807T184926Z
UID:945-1718755200-1718841599@totalchild.org
SUMMARY:Juneteenth - Center Closed
DESCRIPTION:
URL:https://totalchild.org/calendar-event/juneteenth-center-closed/
END:VEVENT
BEGIN:VEVENT
DTSTART;VALUE=DATE:20240704
DTEND;VALUE=DATE:20240705
DTSTAMP:20260421T175331
CREATED:20230807T185018Z
LAST-MODIFIED:20230807T185018Z
UID:947-1720051200-1720137599@totalchild.org
SUMMARY:Fourth of July - Center Closed
DESCRIPTION:
URL:https://totalchild.org/calendar-event/fourth-of-july-center-closed-2/
END:VEVENT
BEGIN:VEVENT
DTSTART;VALUE=DATE:20240808
DTEND;VALUE=DATE:20240809
DTSTAMP:20260421T175331
CREATED:20230807T185245Z
LAST-MODIFIED:20230807T185245Z
UID:950-1723075200-1723161599@totalchild.org
SUMMARY:Last Day for Students
DESCRIPTION:
URL:https://totalchild.org/calendar-event/last-day-for-students/
END:VEVENT
BEGIN:VEVENT
DTSTART;VALUE=DATE:20240809
DTEND;VALUE=DATE:20240810
DTSTAMP:20260421T175331
CREATED:20230807T185438Z
LAST-MODIFIED:20230807T185438Z
UID:952-1723161600-1723247999@totalchild.org
SUMMARY:Staff Clean-up Day - Center Closed
DESCRIPTION:
URL:https://totalchild.org/calendar-event/staff-clean-up-day-center-closed/
END:VEVENT
BEGIN:VEVENT
DTSTART;VALUE=DATE:20240812
DTEND;VALUE=DATE:20240817
DTSTAMP:20260421T175331
CREATED:20230807T185539Z
LAST-MODIFIED:20230807T185539Z
UID:954-1723420800-1723852799@totalchild.org
SUMMARY:Summer Break - Center Closed
DESCRIPTION:
URL:https://totalchild.org/calendar-event/summer-break-center-closed-2/
END:VEVENT
BEGIN:VEVENT
DTSTART;VALUE=DATE:20240819
DTEND;VALUE=DATE:20240821
DTSTAMP:20260421T175331
CREATED:20230807T185614Z
LAST-MODIFIED:20240223T154554Z
UID:956-1724025600-1724198399@totalchild.org
SUMMARY:Teacher in-service/Prep Days - Center Closed
DESCRIPTION:
URL:https://totalchild.org/calendar-event/teacher-in-service-prep-day-center-closed-2/
END:VEVENT
BEGIN:VEVENT
DTSTART;TZID=America/Chicago:20240821T080000
DTEND;TZID=America/Chicago:20240821T100000
DTSTAMP:20260421T175331
CREATED:20230807T185649Z
LAST-MODIFIED:20240223T153219Z
UID:958-1724227200-1724234400@totalchild.org
SUMMARY:Orientation Day
DESCRIPTION:
URL:https://totalchild.org/calendar-event/orientation-day-3/
END:VEVENT
BEGIN:VEVENT
DTSTART;VALUE=DATE:20240822
DTEND;VALUE=DATE:20240823
DTSTAMP:20260421T175331
CREATED:20230807T185713Z
LAST-MODIFIED:20240223T153306Z
UID:960-1724284800-1724371199@totalchild.org
SUMMARY:First Day of School
DESCRIPTION:
URL:https://totalchild.org/calendar-event/first-day-of-school-2/
END:VEVENT
BEGIN:VEVENT
DTSTART;VALUE=DATE:20240902
DTEND;VALUE=DATE:20240903
DTSTAMP:20260421T175331
CREATED:20240223T153406Z
LAST-MODIFIED:20240223T153432Z
UID:1113-1725235200-1725321599@totalchild.org
SUMMARY:Labor Day - Center Closed
DESCRIPTION:
URL:https://totalchild.org/calendar-event/labor-day-center-closed-2/
END:VEVENT
BEGIN:VEVENT
DTSTART;TZID=America/Chicago:20240911T180000
DTEND;TZID=America/Chicago:20240911T190000
DTSTAMP:20260421T175331
CREATED:20240223T153509Z
LAST-MODIFIED:20240223T153509Z
UID:1116-1726077600-1726081200@totalchild.org
SUMMARY:Grown-up Night
DESCRIPTION:
URL:https://totalchild.org/calendar-event/grown-up-night-2/
END:VEVENT
END:VCALENDAR