BEGIN:VCALENDAR
VERSION:2.0
PRODID:-//Total Child - ECPv6.15.20//NONSGML v1.0//EN
CALSCALE:GREGORIAN
METHOD:PUBLISH
X-ORIGINAL-URL:https://totalchild.org
X-WR-CALDESC:Events for Total Child
REFRESH-INTERVAL;VALUE=DURATION:PT1H
X-Robots-Tag:noindex
X-PUBLISHED-TTL:PT1H
BEGIN:VTIMEZONE
TZID:America/Chicago
BEGIN:DAYLIGHT
TZOFFSETFROM:-0600
TZOFFSETTO:-0500
TZNAME:CDT
DTSTART:20250309T080000
END:DAYLIGHT
BEGIN:STANDARD
TZOFFSETFROM:-0500
TZOFFSETTO:-0600
TZNAME:CST
DTSTART:20251102T070000
END:STANDARD
BEGIN:DAYLIGHT
TZOFFSETFROM:-0600
TZOFFSETTO:-0500
TZNAME:CDT
DTSTART:20260308T080000
END:DAYLIGHT
BEGIN:STANDARD
TZOFFSETFROM:-0500
TZOFFSETTO:-0600
TZNAME:CST
DTSTART:20261101T070000
END:STANDARD
BEGIN:DAYLIGHT
TZOFFSETFROM:-0600
TZOFFSETTO:-0500
TZNAME:CDT
DTSTART:20270314T080000
END:DAYLIGHT
BEGIN:STANDARD
TZOFFSETFROM:-0500
TZOFFSETTO:-0600
TZNAME:CST
DTSTART:20271107T070000
END:STANDARD
END:VTIMEZONE
BEGIN:VEVENT
DTSTART;TZID=America/Chicago:20260508T080000
DTEND;TZID=America/Chicago:20260508T090000
DTSTAMP:20260425T185145
CREATED:20250213T213150Z
LAST-MODIFIED:20250213T213150Z
UID:1525-1778227200-1778230800@totalchild.org
SUMMARY:Moms and Special Visitor Day
DESCRIPTION:
URL:https://totalchild.org/calendar-event/moms-and-special-visitor-day/
END:VEVENT
BEGIN:VEVENT
DTSTART;VALUE=DATE:20260525
DTEND;VALUE=DATE:20260526
DTSTAMP:20260425T185145
CREATED:20250213T213213Z
LAST-MODIFIED:20250213T213213Z
UID:1527-1779667200-1779753599@totalchild.org
SUMMARY:Memorial Day - Center Closed
DESCRIPTION:
URL:https://totalchild.org/calendar-event/memorial-day-center-closed-4/
END:VEVENT
BEGIN:VEVENT
DTSTART;TZID=America/Chicago:20260603T173000
DTEND;TZID=America/Chicago:20260603T190000
DTSTAMP:20260425T185145
CREATED:20250213T213319Z
LAST-MODIFIED:20250213T213319Z
UID:1529-1780507800-1780513200@totalchild.org
SUMMARY:School Picnic
DESCRIPTION:
URL:https://totalchild.org/calendar-event/school-picnic-4/
END:VEVENT
BEGIN:VEVENT
DTSTART;VALUE=DATE:20260604
DTEND;VALUE=DATE:20260605
DTSTAMP:20260425T185145
CREATED:20250213T213400Z
LAST-MODIFIED:20250213T213400Z
UID:1531-1780531200-1780617599@totalchild.org
SUMMARY:Last Day of School Before Summer Program Begins
DESCRIPTION:
URL:https://totalchild.org/calendar-event/last-day-of-school-before-summer-program-begins-2/
END:VEVENT
BEGIN:VEVENT
DTSTART;VALUE=DATE:20260605
DTEND;VALUE=DATE:20260606
DTSTAMP:20260425T185145
CREATED:20250213T213454Z
LAST-MODIFIED:20250213T213454Z
UID:1533-1780617600-1780703999@totalchild.org
SUMMARY:Staff Clean-Up and Set-Up In-Service Day for Summer Program
DESCRIPTION:
URL:https://totalchild.org/calendar-event/staff-clean-up-and-set-up-in-service-day-for-summer-program/
END:VEVENT
BEGIN:VEVENT
DTSTART;VALUE=DATE:20260608
DTEND;VALUE=DATE:20260609
DTSTAMP:20260425T185145
CREATED:20250213T213516Z
LAST-MODIFIED:20250213T213516Z
UID:1535-1780876800-1780963199@totalchild.org
SUMMARY:Summer Program Begins
DESCRIPTION:
URL:https://totalchild.org/calendar-event/summer-program-begins-3/
END:VEVENT
BEGIN:VEVENT
DTSTART;TZID=America/Chicago:20260618T080000
DTEND;TZID=America/Chicago:20260618T090000
DTSTAMP:20260425T185145
CREATED:20250213T213552Z
LAST-MODIFIED:20250213T213552Z
UID:1537-1781769600-1781773200@totalchild.org
SUMMARY:Dads and Special Visitor Day
DESCRIPTION:
URL:https://totalchild.org/calendar-event/dads-and-special-visitor-day/
END:VEVENT
BEGIN:VEVENT
DTSTART;VALUE=DATE:20260619
DTEND;VALUE=DATE:20260620
DTSTAMP:20260425T185145
CREATED:20250213T213621Z
LAST-MODIFIED:20250213T213621Z
UID:1539-1781827200-1781913599@totalchild.org
SUMMARY:Juneteenth - Center Closed
DESCRIPTION:
URL:https://totalchild.org/calendar-event/juneteenth-center-closed-2/
END:VEVENT
BEGIN:VEVENT
DTSTART;VALUE=DATE:20260703
DTEND;VALUE=DATE:20260704
DTSTAMP:20260425T185145
CREATED:20250213T213647Z
LAST-MODIFIED:20250213T213647Z
UID:1541-1783036800-1783123199@totalchild.org
SUMMARY:Observance of Independence Day - Center Closed
DESCRIPTION:
URL:https://totalchild.org/calendar-event/observance-of-independence-day-center-closed/
END:VEVENT
BEGIN:VEVENT
DTSTART;TZID=America/Chicago:20260716T083000
DTEND;TZID=America/Chicago:20260716T123000
DTSTAMP:20260425T185145
CREATED:20250213T213717Z
LAST-MODIFIED:20250213T214006Z
UID:1543-1784190600-1784205000@totalchild.org
SUMMARY:Garden Party
DESCRIPTION:
URL:https://totalchild.org/calendar-event/garden-party-2/
END:VEVENT
BEGIN:VEVENT
DTSTART;VALUE=DATE:20260806
DTEND;VALUE=DATE:20260807
DTSTAMP:20260425T185145
CREATED:20250213T213748Z
LAST-MODIFIED:20250213T213748Z
UID:1545-1785974400-1786060799@totalchild.org
SUMMARY:Last Day for Students
DESCRIPTION:
URL:https://totalchild.org/calendar-event/last-day-for-students-3/
END:VEVENT
BEGIN:VEVENT
DTSTART;VALUE=DATE:20260807
DTEND;VALUE=DATE:20260808
DTSTAMP:20260425T185145
CREATED:20250213T213824Z
LAST-MODIFIED:20250213T213824Z
UID:1547-1786060800-1786147199@totalchild.org
SUMMARY:Staff Clean-Up Day - Center Closed
DESCRIPTION:
URL:https://totalchild.org/calendar-event/staff-clean-up-day-center-closed-3/
END:VEVENT
BEGIN:VEVENT
DTSTART;VALUE=DATE:20260810
DTEND;VALUE=DATE:20260815
DTSTAMP:20260425T185145
CREATED:20250213T213845Z
LAST-MODIFIED:20250213T213845Z
UID:1549-1786320000-1786751999@totalchild.org
SUMMARY:Summer Break - Center Closed
DESCRIPTION:
URL:https://totalchild.org/calendar-event/summer-break-center-closed-4/
END:VEVENT
BEGIN:VEVENT
DTSTART;VALUE=DATE:20260817
DTEND;VALUE=DATE:20260819
DTSTAMP:20260425T185145
CREATED:20250213T214106Z
LAST-MODIFIED:20250213T214106Z
UID:1553-1786924800-1787097599@totalchild.org
SUMMARY:Staff In-Service/Prep Days - Center Closed
DESCRIPTION:
URL:https://totalchild.org/calendar-event/staff-in-service-prep-days-center-closed-2/
END:VEVENT
BEGIN:VEVENT
DTSTART;TZID=America/Chicago:20260819T080000
DTEND;TZID=America/Chicago:20260819T100000
DTSTAMP:20260425T185145
CREATED:20250213T214148Z
LAST-MODIFIED:20250213T214148Z
UID:1555-1787126400-1787133600@totalchild.org
SUMMARY:Orientation/Open House
DESCRIPTION:
URL:https://totalchild.org/calendar-event/orientation-open-house-2/
END:VEVENT
BEGIN:VEVENT
DTSTART;VALUE=DATE:20260820
DTEND;VALUE=DATE:20260821
DTSTAMP:20260425T185145
CREATED:20250213T214213Z
LAST-MODIFIED:20250213T214213Z
UID:1557-1787184000-1787270399@totalchild.org
SUMMARY:First Day of School
DESCRIPTION:
URL:https://totalchild.org/calendar-event/first-day-of-school-4/
END:VEVENT
END:VCALENDAR