BEGIN:VCALENDAR
VERSION:2.0
PRODID:-//Total Child - ECPv6.15.20//NONSGML v1.0//EN
CALSCALE:GREGORIAN
METHOD:PUBLISH
X-WR-CALNAME:Total Child
X-ORIGINAL-URL:https://totalchild.org
X-WR-CALDESC:Events for Total Child
REFRESH-INTERVAL;VALUE=DURATION:PT1H
X-Robots-Tag:noindex
X-PUBLISHED-TTL:PT1H
BEGIN:VTIMEZONE
TZID:America/Chicago
BEGIN:DAYLIGHT
TZOFFSETFROM:-0600
TZOFFSETTO:-0500
TZNAME:CDT
DTSTART:20210314T080000
END:DAYLIGHT
BEGIN:STANDARD
TZOFFSETFROM:-0500
TZOFFSETTO:-0600
TZNAME:CST
DTSTART:20211107T070000
END:STANDARD
BEGIN:DAYLIGHT
TZOFFSETFROM:-0600
TZOFFSETTO:-0500
TZNAME:CDT
DTSTART:20220313T080000
END:DAYLIGHT
BEGIN:STANDARD
TZOFFSETFROM:-0500
TZOFFSETTO:-0600
TZNAME:CST
DTSTART:20221106T070000
END:STANDARD
BEGIN:DAYLIGHT
TZOFFSETFROM:-0600
TZOFFSETTO:-0500
TZNAME:CDT
DTSTART:20230312T080000
END:DAYLIGHT
BEGIN:STANDARD
TZOFFSETFROM:-0500
TZOFFSETTO:-0600
TZNAME:CST
DTSTART:20231105T070000
END:STANDARD
BEGIN:DAYLIGHT
TZOFFSETFROM:-0600
TZOFFSETTO:-0500
TZNAME:CDT
DTSTART:20240310T080000
END:DAYLIGHT
BEGIN:STANDARD
TZOFFSETFROM:-0500
TZOFFSETTO:-0600
TZNAME:CST
DTSTART:20241103T070000
END:STANDARD
END:VTIMEZONE
BEGIN:VEVENT
DTSTART;VALUE=DATE:20230220
DTEND;VALUE=DATE:20230221
DTSTAMP:20260421T160800
CREATED:20220817T170032Z
LAST-MODIFIED:20220817T170032Z
UID:816-1676851200-1676937599@totalchild.org
SUMMARY:President's Day School Closed
DESCRIPTION:
URL:https://totalchild.org/calendar-event/presidents-day-school-closed/
END:VEVENT
BEGIN:VEVENT
DTSTART;VALUE=DATE:20230217
DTEND;VALUE=DATE:20230218
DTSTAMP:20260421T160800
CREATED:20220817T170007Z
LAST-MODIFIED:20220817T170007Z
UID:814-1676592000-1676678399@totalchild.org
SUMMARY:Staff Professional Development Day School Closed
DESCRIPTION:
URL:https://totalchild.org/calendar-event/staff-professional-development-day-school-closed/
END:VEVENT
BEGIN:VEVENT
DTSTART;TZID=America/Chicago:20230126T090000
DTEND;TZID=America/Chicago:20230126T110000
DTSTAMP:20260421T160800
CREATED:20220817T165915Z
LAST-MODIFIED:20220817T165915Z
UID:812-1674723600-1674730800@totalchild.org
SUMMARY:Open House for Prospective Families
DESCRIPTION:
URL:https://totalchild.org/calendar-event/open-house-for-prospective-families/
END:VEVENT
BEGIN:VEVENT
DTSTART;VALUE=DATE:20230116
DTEND;VALUE=DATE:20230117
DTSTAMP:20260421T160800
CREATED:20220817T165831Z
LAST-MODIFIED:20220817T165831Z
UID:810-1673827200-1673913599@totalchild.org
SUMMARY:Martin Luther King's Birthday No School
DESCRIPTION:
URL:https://totalchild.org/calendar-event/martin-luther-kings-birthday-no-school/
END:VEVENT
BEGIN:VEVENT
DTSTART;VALUE=DATE:20230110
DTEND;VALUE=DATE:20230111
DTSTAMP:20260421T160800
CREATED:20220817T165727Z
LAST-MODIFIED:20220817T165727Z
UID:808-1673308800-1673395199@totalchild.org
SUMMARY:School Reopens
DESCRIPTION:
URL:https://totalchild.org/calendar-event/school-reopens/
END:VEVENT
BEGIN:VEVENT
DTSTART;VALUE=DATE:20221227
DTEND;VALUE=DATE:20230110
DTSTAMP:20260421T160800
CREATED:20220817T165649Z
LAST-MODIFIED:20220817T165649Z
UID:806-1672099200-1673308799@totalchild.org
SUMMARY:Winter Break School Closed
DESCRIPTION:
URL:https://totalchild.org/calendar-event/winter-break-school-closed-2/
END:VEVENT
BEGIN:VEVENT
DTSTART;VALUE=DATE:20221226
DTEND;VALUE=DATE:20221227
DTSTAMP:20260421T160800
CREATED:20220817T165604Z
LAST-MODIFIED:20220817T165604Z
UID:804-1672012800-1672099199@totalchild.org
SUMMARY:Winter Break School Closed
DESCRIPTION:
URL:https://totalchild.org/calendar-event/winter-break-school-closed/
END:VEVENT
BEGIN:VEVENT
DTSTART;VALUE=DATE:20221125
DTEND;VALUE=DATE:20221126
DTSTAMP:20260421T160800
CREATED:20220817T165529Z
LAST-MODIFIED:20220817T165529Z
UID:802-1669334400-1669420799@totalchild.org
SUMMARY:Thanksgiving Break School Closed
DESCRIPTION:
URL:https://totalchild.org/calendar-event/thanksgiving-break-school-closed-5/
END:VEVENT
BEGIN:VEVENT
DTSTART;VALUE=DATE:20221124
DTEND;VALUE=DATE:20221125
DTSTAMP:20260421T160800
CREATED:20220817T165329Z
LAST-MODIFIED:20220817T165329Z
UID:800-1669248000-1669334399@totalchild.org
SUMMARY:Thanksgiving Break School Closed
DESCRIPTION:
URL:https://totalchild.org/calendar-event/thanksgiving-break-school-closed-4/
END:VEVENT
BEGIN:VEVENT
DTSTART;VALUE=DATE:20221123
DTEND;VALUE=DATE:20221124
DTSTAMP:20260421T160800
CREATED:20220817T165256Z
LAST-MODIFIED:20220817T165256Z
UID:798-1669161600-1669247999@totalchild.org
SUMMARY:Thanksgiving Break School Closed
DESCRIPTION:
URL:https://totalchild.org/calendar-event/thanksgiving-break-school-closed-3/
END:VEVENT
BEGIN:VEVENT
DTSTART;VALUE=DATE:20221122
DTEND;VALUE=DATE:20221123
DTSTAMP:20260421T160800
CREATED:20220817T165229Z
LAST-MODIFIED:20220817T165229Z
UID:796-1669075200-1669161599@totalchild.org
SUMMARY:Thanksgiving Break School Closed
DESCRIPTION:
URL:https://totalchild.org/calendar-event/thanksgiving-break-school-closed-2/
END:VEVENT
BEGIN:VEVENT
DTSTART;VALUE=DATE:20221121
DTEND;VALUE=DATE:20221122
DTSTAMP:20260421T160800
CREATED:20220817T165158Z
LAST-MODIFIED:20220817T165158Z
UID:794-1668988800-1669075199@totalchild.org
SUMMARY:Thanksgiving Break School Closed
DESCRIPTION:
URL:https://totalchild.org/calendar-event/thanksgiving-break-school-closed/
END:VEVENT
BEGIN:VEVENT
DTSTART;VALUE=DATE:20221108
DTEND;VALUE=DATE:20221109
DTSTAMP:20260421T160800
CREATED:20220817T165112Z
LAST-MODIFIED:20220817T165112Z
UID:792-1667865600-1667951999@totalchild.org
SUMMARY:Fall Partnership Conferences (via zoom) School Closed
DESCRIPTION:
URL:https://totalchild.org/calendar-event/fall-partnership-conferences-via-zoom-school-closed/
END:VEVENT
BEGIN:VEVENT
DTSTART;TZID=America/Chicago:20221105T090000
DTEND;TZID=America/Chicago:20221105T110000
DTSTAMP:20260421T160800
CREATED:20220817T164959Z
LAST-MODIFIED:20220817T164959Z
UID:790-1667638800-1667646000@totalchild.org
SUMMARY:Fall Work Day
DESCRIPTION:
URL:https://totalchild.org/calendar-event/fall-work-day/
END:VEVENT
BEGIN:VEVENT
DTSTART;TZID=America/Chicago:20221102T073000
DTEND;TZID=America/Chicago:20221102T083000
DTSTAMP:20260421T160800
CREATED:20220817T164905Z
LAST-MODIFIED:20220817T164905Z
UID:788-1667374200-1667377800@totalchild.org
SUMMARY:Lantern Walk
DESCRIPTION:
URL:https://totalchild.org/calendar-event/lantern-walk/
END:VEVENT
BEGIN:VEVENT
DTSTART;TZID=America/Chicago:20221020T173000
DTEND;TZID=America/Chicago:20221020T190000
DTSTAMP:20260421T160800
CREATED:20220823T160205Z
LAST-MODIFIED:20220823T160205Z
UID:858-1666287000-1666292400@totalchild.org
SUMMARY:Harvest Soup
DESCRIPTION:
URL:https://totalchild.org/calendar-event/harvest-soup/
END:VEVENT
BEGIN:VEVENT
DTSTART;VALUE=DATE:20221005
DTEND;VALUE=DATE:20221006
DTSTAMP:20260421T160800
CREATED:20220817T164827Z
LAST-MODIFIED:20220817T164827Z
UID:786-1664928000-1665014399@totalchild.org
SUMMARY:Yom Kipper School Closed
DESCRIPTION:
URL:https://totalchild.org/calendar-event/yom-kipper-school-closed/
END:VEVENT
BEGIN:VEVENT
DTSTART;VALUE=DATE:20220926
DTEND;VALUE=DATE:20220927
DTSTAMP:20260421T160800
CREATED:20220817T164746Z
LAST-MODIFIED:20220817T164746Z
UID:784-1664150400-1664236799@totalchild.org
SUMMARY:Rosh Hashana School Closed
DESCRIPTION:
URL:https://totalchild.org/calendar-event/rosh-hashana-school-closed/
END:VEVENT
BEGIN:VEVENT
DTSTART;TZID=America/Chicago:20220912T073000
DTEND;TZID=America/Chicago:20220912T090000
DTSTAMP:20260421T160800
CREATED:20220817T164656Z
LAST-MODIFIED:20220817T164656Z
UID:782-1662967800-1662973200@totalchild.org
SUMMARY:Grandparent's Day
DESCRIPTION:
URL:https://totalchild.org/calendar-event/grandparents-day/
END:VEVENT
BEGIN:VEVENT
DTSTART;VALUE=DATE:20220905
DTEND;VALUE=DATE:20220906
DTSTAMP:20260421T160800
CREATED:20220309T175519Z
LAST-MODIFIED:20220309T175519Z
UID:721-1662336000-1662422399@totalchild.org
SUMMARY:Labor Day - CENTER CLOSED
DESCRIPTION:
URL:https://totalchild.org/calendar-event/labor-day-center-closed/
CATEGORIES:Holiday - Center is Closed
END:VEVENT
BEGIN:VEVENT
DTSTART;TZID=America/Chicago:20220901T190000
DTEND;TZID=America/Chicago:20220901T200000
DTSTAMP:20260421T160800
CREATED:20220817T164531Z
LAST-MODIFIED:20220817T164531Z
UID:780-1662058800-1662062400@totalchild.org
SUMMARY:Parent Night
DESCRIPTION:
URL:https://totalchild.org/calendar-event/parent-night/
END:VEVENT
BEGIN:VEVENT
DTSTART;VALUE=DATE:20220817
DTEND;VALUE=DATE:20220818
DTSTAMP:20260421T160800
CREATED:20220309T181747Z
LAST-MODIFIED:20220309T181747Z
UID:750-1660694400-1660780799@totalchild.org
SUMMARY:First day of school for all programs
DESCRIPTION:
URL:https://totalchild.org/calendar-event/first-day-of-school-for-all-programs/
CATEGORIES:Total Child Schedule
END:VEVENT
BEGIN:VEVENT
DTSTART;TZID=America/Chicago:20220816T080000
DTEND;TZID=America/Chicago:20220816T110000
DTSTAMP:20260421T160800
CREATED:20220309T181359Z
LAST-MODIFIED:20220309T181359Z
UID:748-1660636800-1660647600@totalchild.org
SUMMARY:Orientation Day
DESCRIPTION:Families will receive information from classroom teachers.
URL:https://totalchild.org/calendar-event/orientation-day/
CATEGORIES:Total Child Schedule
END:VEVENT
BEGIN:VEVENT
DTSTART;VALUE=DATE:20220815
DTEND;VALUE=DATE:20220816
DTSTAMP:20260421T160800
CREATED:20220309T181217Z
LAST-MODIFIED:20220309T181217Z
UID:746-1660521600-1660607999@totalchild.org
SUMMARY:Teacher in-service/prep day – CENTER CLOSED
DESCRIPTION:
URL:https://totalchild.org/calendar-event/teacher-in-service-prep-day-center-closed/
CATEGORIES:Staff Event
END:VEVENT
BEGIN:VEVENT
DTSTART;VALUE=DATE:20220808
DTEND;VALUE=DATE:20220813
DTSTAMP:20260421T160800
CREATED:20220309T181125Z
LAST-MODIFIED:20220309T181125Z
UID:744-1659916800-1660348799@totalchild.org
SUMMARY:Summer Break – CENTER CLOSED
DESCRIPTION:
URL:https://totalchild.org/calendar-event/summer-break-center-closed/
CATEGORIES:Total Child Schedule
END:VEVENT
BEGIN:VEVENT
DTSTART;VALUE=DATE:20220805
DTEND;VALUE=DATE:20220806
DTSTAMP:20260421T160800
CREATED:20220309T181030Z
LAST-MODIFIED:20220309T181030Z
UID:742-1659657600-1659743999@totalchild.org
SUMMARY:Staff exit/clean up day – CENTER CLOSED
DESCRIPTION:
URL:https://totalchild.org/calendar-event/staff-exit-clean-up-day-center-closed/
CATEGORIES:Total Child Schedule
END:VEVENT
BEGIN:VEVENT
DTSTART;VALUE=DATE:20220804
DTEND;VALUE=DATE:20220805
DTSTAMP:20260421T160800
CREATED:20220309T180938Z
LAST-MODIFIED:20220309T180938Z
UID:740-1659571200-1659657599@totalchild.org
SUMMARY:Last day of Summer Explorers program
DESCRIPTION:
URL:https://totalchild.org/calendar-event/last-day-of-summer-explorers-program/
CATEGORIES:Total Child Schedule
END:VEVENT
BEGIN:VEVENT
DTSTART;VALUE=DATE:20220704
DTEND;VALUE=DATE:20220705
DTSTAMP:20260421T160800
CREATED:20220309T175405Z
LAST-MODIFIED:20220309T175405Z
UID:719-1656892800-1656979199@totalchild.org
SUMMARY:Fourth of July – CENTER CLOSED
DESCRIPTION:
URL:https://totalchild.org/calendar-event/fourth-of-july-center-closed/
CATEGORIES:Holiday - Center is Closed
END:VEVENT
BEGIN:VEVENT
DTSTART;TZID=America/Chicago:20220606T080000
DTEND;TZID=America/Chicago:20220606T170000
DTSTAMP:20260421T160800
CREATED:20220309T180635Z
LAST-MODIFIED:20220309T180635Z
UID:736-1654502400-1654534800@totalchild.org
SUMMARY:Summer Explorers Program begins for all classrooms
DESCRIPTION:
URL:https://totalchild.org/calendar-event/summer-explorers-program-begins-for-all-classrooms/
CATEGORIES:Total Child Schedule
END:VEVENT
BEGIN:VEVENT
DTSTART;VALUE=DATE:20220606
DTEND;VALUE=DATE:20220607
DTSTAMP:20260421T160800
CREATED:20220309T180724Z
LAST-MODIFIED:20220309T180724Z
UID:738-1654473600-1654559999@totalchild.org
SUMMARY:Operating hours change to 7:30-5:30
DESCRIPTION:
URL:https://totalchild.org/calendar-event/operating-hours-change-to-730-530/
CATEGORIES:Total Child Schedule
END:VEVENT
END:VCALENDAR