BEGIN:VCALENDAR
VERSION:2.0
PRODID:-//Total Child - ECPv6.15.20//NONSGML v1.0//EN
CALSCALE:GREGORIAN
METHOD:PUBLISH
X-WR-CALNAME:Total Child
X-ORIGINAL-URL:https://totalchild.org
X-WR-CALDESC:Events for Total Child
REFRESH-INTERVAL;VALUE=DURATION:PT1H
X-Robots-Tag:noindex
X-PUBLISHED-TTL:PT1H
BEGIN:VTIMEZONE
TZID:America/Chicago
BEGIN:DAYLIGHT
TZOFFSETFROM:-0600
TZOFFSETTO:-0500
TZNAME:CDT
DTSTART:20210314T080000
END:DAYLIGHT
BEGIN:STANDARD
TZOFFSETFROM:-0500
TZOFFSETTO:-0600
TZNAME:CST
DTSTART:20211107T070000
END:STANDARD
BEGIN:DAYLIGHT
TZOFFSETFROM:-0600
TZOFFSETTO:-0500
TZNAME:CDT
DTSTART:20220313T080000
END:DAYLIGHT
BEGIN:STANDARD
TZOFFSETFROM:-0500
TZOFFSETTO:-0600
TZNAME:CST
DTSTART:20221106T070000
END:STANDARD
BEGIN:DAYLIGHT
TZOFFSETFROM:-0600
TZOFFSETTO:-0500
TZNAME:CDT
DTSTART:20230312T080000
END:DAYLIGHT
BEGIN:STANDARD
TZOFFSETFROM:-0500
TZOFFSETTO:-0600
TZNAME:CST
DTSTART:20231105T070000
END:STANDARD
END:VTIMEZONE
BEGIN:VEVENT
DTSTART;VALUE=DATE:20220331
DTEND;VALUE=DATE:20220401
DTSTAMP:20260421T083308
CREATED:20220309T175119Z
LAST-MODIFIED:20220309T181846Z
UID:712-1648684800-1648771199@totalchild.org
SUMMARY:Kindergarten Information Night via Zoom - time tba
DESCRIPTION:Contact Director Laura Carr to RSVP \ndirector@totalchild.org\n847.864.7100
URL:https://totalchild.org/calendar-event/kindergarten-information-night-via-zoom/
CATEGORIES:Total Child Schedule
END:VEVENT
BEGIN:VEVENT
DTSTART;VALUE=DATE:20220328
DTEND;VALUE=DATE:20220329
DTSTAMP:20260421T083308
CREATED:20220309T174838Z
LAST-MODIFIED:20220309T233853Z
UID:710-1648425600-1648511999@totalchild.org
SUMMARY:Center Reopens – All classrooms return
DESCRIPTION:
URL:https://totalchild.org/calendar-event/center-reopens-all-classrooms-return/
CATEGORIES:Total Child Schedule
END:VEVENT
BEGIN:VEVENT
DTSTART;VALUE=DATE:20220319
DTEND;VALUE=DATE:20220328
DTSTAMP:20260421T083308
CREATED:20220309T174809Z
LAST-MODIFIED:20220309T174809Z
UID:708-1647648000-1648425599@totalchild.org
SUMMARY:Spring Break
DESCRIPTION:
URL:https://totalchild.org/calendar-event/spring-break/
CATEGORIES:Total Child Schedule
END:VEVENT
BEGIN:VEVENT
DTSTART;TZID=America/Chicago:20220318T170000
DTEND;TZID=America/Chicago:20220318T170000
DTSTAMP:20260421T083308
CREATED:20220309T174639Z
LAST-MODIFIED:20220309T181937Z
UID:706-1647622800-1647622800@totalchild.org
SUMMARY:Spring Break begins at 5:00PM
DESCRIPTION:
URL:https://totalchild.org/calendar-event/spring-break-begins-at-500pm/
CATEGORIES:Total Child Schedule
END:VEVENT
BEGIN:VEVENT
DTSTART;TZID=America/Chicago:20220310T090000
DTEND;TZID=America/Chicago:20220310T110000
DTSTAMP:20260421T083308
CREATED:20220309T174559Z
LAST-MODIFIED:20220309T174559Z
UID:704-1646902800-1646910000@totalchild.org
SUMMARY:Spring Open House
DESCRIPTION:
URL:https://totalchild.org/calendar-event/spring-open-house-2/
CATEGORIES:Total Child Schedule
END:VEVENT
BEGIN:VEVENT
DTSTART;TZID=America/Chicago:20220309T090000
DTEND;TZID=America/Chicago:20220309T110000
DTSTAMP:20260421T083308
CREATED:20220309T173721Z
LAST-MODIFIED:20220309T173839Z
UID:700-1646816400-1646823600@totalchild.org
SUMMARY:Spring Open House
DESCRIPTION:
URL:https://totalchild.org/calendar-event/spring-open-house/
CATEGORIES:Total Child Schedule
END:VEVENT
END:VCALENDAR